BEGIN:VCALENDAR
VERSION:2.0
PRODID:-//Connecticut - ECPv6.15.20//NONSGML v1.0//EN
CALSCALE:GREGORIAN
METHOD:PUBLISH
X-ORIGINAL-URL:https://ctpga.com
X-WR-CALDESC:Events for Connecticut
REFRESH-INTERVAL;VALUE=DURATION:PT1H
X-Robots-Tag:noindex
X-PUBLISHED-TTL:PT1H
BEGIN:VTIMEZONE
TZID:UTC
BEGIN:STANDARD
TZOFFSETFROM:+0000
TZOFFSETTO:+0000
TZNAME:UTC
DTSTART:20180101T000000
END:STANDARD
END:VTIMEZONE
BEGIN:VEVENT
DTSTART;VALUE=DATE:20190309
DTEND;VALUE=DATE:20190311
DTSTAMP:20260424T095656
CREATED:20190225T151107Z
LAST-MODIFIED:20190225T151107Z
UID:10000337-1552089600-1552262399@ctpga.com
SUMMARY:CSGA Rules Seminar
DESCRIPTION:The 2019 CSGA Rules of Golf Seminar will be held Saturday and Sunday\, March 9th and 10th\, at the Country Club of Farmington in Farmington\, Conn. This two-day Rules of Golf seminar is open to the public. Whether you are new to the Rules or looking to sharpen your existing knowledge\, this seminar will provide an in-depth look into the recently revised Rules of Golf. Deadline to register is March 1. MSR Credits will given for the education portion\, but not the test taking portion. \nFor more information click here.  \nTo register follow the link in the box below. \n 
URL:https://ctpga.com/event/csga-rules-seminar/
LOCATION:Country Club of Farmington\, 806 Farmington Ave\, Farmington\, CT\, 06032\, United States
CATEGORIES:Educational Events
GEO:41.7270445;-72.8265143
X-APPLE-STRUCTURED-LOCATION;VALUE=URI;X-ADDRESS=Country Club of Farmington 806 Farmington Ave Farmington CT 06032 United States;X-APPLE-RADIUS=500;X-TITLE=806 Farmington Ave:geo:-72.8265143,41.7270445
END:VEVENT
END:VCALENDAR