BEGIN:VCALENDAR
VERSION:2.0
PRODID:-//Connecticut - ECPv6.15.20//NONSGML v1.0//EN
CALSCALE:GREGORIAN
METHOD:PUBLISH
X-ORIGINAL-URL:https://ctpga.com
X-WR-CALDESC:Events for Connecticut
REFRESH-INTERVAL;VALUE=DURATION:PT1H
X-Robots-Tag:noindex
X-PUBLISHED-TTL:PT1H
BEGIN:VTIMEZONE
TZID:UTC
BEGIN:STANDARD
TZOFFSETFROM:+0000
TZOFFSETTO:+0000
TZNAME:UTC
DTSTART:20180101T000000
END:STANDARD
END:VTIMEZONE
BEGIN:VEVENT
DTSTART;TZID=UTC:20190319T100000
DTEND;TZID=UTC:20190319T120000
DTSTAMP:20260426T031102
CREATED:20190123T201527Z
LAST-MODIFIED:20190211T193114Z
UID:10000266-1552989600-1552996800@ctpga.com
SUMMARY:Rules of Golf Workshop
DESCRIPTION:Hosted by Tournament OIC John Korolyshun and Tournament Director Dennis Dungee \n  \nTo RSVP email Dennis at ddungee@pgahq.com
URL:https://ctpga.com/event/rules-of-golf-workshop/
LOCATION:Congregational Church of the South Glastonbury\, 949 Main St\, South Glastonbury\, CT\, 06073\, United States
CATEGORIES:Educational Events
GEO:41.66789;-72.6028857
X-APPLE-STRUCTURED-LOCATION;VALUE=URI;X-ADDRESS=Congregational Church of the South Glastonbury 949 Main St South Glastonbury CT 06073 United States;X-APPLE-RADIUS=500;X-TITLE=949 Main St:geo:-72.6028857,41.66789
END:VEVENT
BEGIN:VEVENT
DTSTART;TZID=UTC:20190319T130000
DTEND;TZID=UTC:20190319T170000
DTSTAMP:20260426T031102
CREATED:20190211T193732Z
LAST-MODIFIED:20190211T193732Z
UID:10000269-1553000400-1553014800@ctpga.com
SUMMARY:Club Fitting & Golf Science w/ Marty Jertson\, PGA
DESCRIPTION:This is a cant miss opportunity to hear one of the best in the business discussing club fitting and golf science. Marty Jertson\, PGA Member and VP of Fitting & Product Development for PING\, will be hosting an educational event on Tuesday\, March 19 from 1:00 PM to 5:00 PM at the Congregational Church of South Glastonbury. Marty\, is a well-recognized name in the PGA world. Not only does he hold a significant position within PING\, but Marty is a Class-A PGA Member and well-known player who has qualified for three PGA Championships as well as having played in four Shriners Hospital for Children Opens. The topic of his discussion will be Fitting and Golf Science. The program is FREE of charge and will follow our morning Winter Workshop Series (Rules of Golf). PGA Professionals in attendance will receive four MSR credits for attending. \n  \nTo RSVP email Dennis Dungee at ddungee@pgahq.com
URL:https://ctpga.com/event/club-fitting-golf-science-w-marty-jertson-pga/
LOCATION:Congregational Church of the South Glastonbury\, 949 Main St\, South Glastonbury\, CT\, 06073\, United States
CATEGORIES:Educational Events
GEO:41.66789;-72.6028857
X-APPLE-STRUCTURED-LOCATION;VALUE=URI;X-ADDRESS=Congregational Church of the South Glastonbury 949 Main St South Glastonbury CT 06073 United States;X-APPLE-RADIUS=500;X-TITLE=949 Main St:geo:-72.6028857,41.66789
END:VEVENT
END:VCALENDAR