BEGIN:VCALENDAR
VERSION:2.0
PRODID:-//Connecticut - ECPv6.15.20//NONSGML v1.0//EN
CALSCALE:GREGORIAN
METHOD:PUBLISH
X-WR-CALNAME:Connecticut
X-ORIGINAL-URL:https://ctpga.com
X-WR-CALDESC:Events for Connecticut
REFRESH-INTERVAL;VALUE=DURATION:PT1H
X-Robots-Tag:noindex
X-PUBLISHED-TTL:PT1H
BEGIN:VTIMEZONE
TZID:UTC
BEGIN:STANDARD
TZOFFSETFROM:+0000
TZOFFSETTO:+0000
TZNAME:UTC
DTSTART:20180101T000000
END:STANDARD
END:VTIMEZONE
BEGIN:VEVENT
DTSTART;VALUE=DATE:20190701
DTEND;VALUE=DATE:20190703
DTSTAMP:20260421T071906
CREATED:20190211T135453Z
LAST-MODIFIED:20190211T135453Z
UID:10000275-1561939200-1562111999@ctpga.com
SUMMARY:36-Hole Champions TOUR Lyman Orchards Junior Open
DESCRIPTION:The Champions TOUR is designed for advanced players looking to play at the collegiate level. Boys will be playing from yardages of 6500-6900 and girls will be playing from 5500-5900 yards. These will all be 36-hole events that will be ranked by Junior Golf Scoreboard and AJGA. With the help of some of Connecticuts college coaches we have established these course set up guidelines with the hopes of attracting both the elite players in the area as well as the college coaches themselves. The Junior Golf Committee will reserve the right to reassign a player to the Players TOUR for further development if they fail to meet set guidelines during the season. \n-Access to this TOUR will rely on GHIN Handicap Index’s\, past tournament scores\, and recommendations from your PGA Professional \n-Boys should have a GHIN Handicap Index of 7.0 or better (must be able to play yardages 6500-6900) \n-Girls should have a GHIN Handicap Index of 15.0 or better (must be able to play yardages 5500-5900) \n-The Junior Golf Committee has the right to deny a player entry into an event based on their Handicap Index\, past scores\, or recommendation from their PGA Professional \n-Boys who play on the Champions TOUR and have a round over 100 will be asked to play on the Players TOUR until they can prove themselves ready for the Champions TOUR. Consecutive rounds above 90 will also warrant review by the Junior Golf Committee. \n-Girls who play on the Champions TOUR and have a round over 110 will be asked to play on the Players TOUR until they can prove themselves ready for the Champions TOUR. Consecutive rounds above 100 will also warrant review by the Junior Golf Committee. \n-No cards will receive the same treatment as a 90+ score for boys and 100+ score for girls
URL:https://ctpga.com/event/36-hole-champions-tour-lyman-orchards-junior-open/
LOCATION:Lyman Orchards Golf Club\, 70 Lyman Rd\, Middlefield\, CT\, 06455\, United States
CATEGORIES:Junior Golf Tournament
GEO:41.4935355;-72.7111939
X-APPLE-STRUCTURED-LOCATION;VALUE=URI;X-ADDRESS=Lyman Orchards Golf Club 70 Lyman Rd Middlefield CT 06455 United States;X-APPLE-RADIUS=500;X-TITLE=70 Lyman Rd:geo:-72.7111939,41.4935355
END:VEVENT
BEGIN:VEVENT
DTSTART;VALUE=DATE:20190702
DTEND;VALUE=DATE:20190703
DTSTAMP:20260421T071906
CREATED:20190211T162729Z
LAST-MODIFIED:20190211T162729Z
UID:10000313-1562025600-1562111999@ctpga.com
SUMMARY:PGA Pro-Officer
DESCRIPTION:ELIGIBILITY:\nPGA Active Members & PGA Associates employed by a PGA Recognized facility. Amateur partner must be an official (president\, committee chair\, owner\, etc.) of the same PGA recognized facility and have a handicap computed in the GHIN system. \nFORMAT:\nTeam Stableford – Amatuers will receive 100% of their handicap index with a maximum handicap of 18. Professionals will earn points for their gross score while amateurs will earn points based on net scores. Stableford scoring will be based on net scores while professionals will be scored on gross. The Pro-Officer will be a TEAM COMPETITION ONLY; combining the Stableford points earned by each player. \nScoring – Points awarded as follows \n1 point – par\n3 points – birdie\n5 points – eagle\n7 points – double eagle
URL:https://ctpga.com/event/pga-pro-officer/
LOCATION:Hartford Golf Club
CATEGORIES:Professional Tournament
END:VEVENT
END:VCALENDAR