BEGIN:VCALENDAR
VERSION:2.0
PRODID:-//Connecticut - ECPv6.15.20//NONSGML v1.0//EN
CALSCALE:GREGORIAN
METHOD:PUBLISH
X-WR-CALNAME:Connecticut
X-ORIGINAL-URL:https://ctpga.com
X-WR-CALDESC:Events for Connecticut
REFRESH-INTERVAL;VALUE=DURATION:PT1H
X-Robots-Tag:noindex
X-PUBLISHED-TTL:PT1H
BEGIN:VTIMEZONE
TZID:UTC
BEGIN:STANDARD
TZOFFSETFROM:+0000
TZOFFSETTO:+0000
TZNAME:UTC
DTSTART:20200101T000000
END:STANDARD
END:VTIMEZONE
BEGIN:VEVENT
DTSTART;VALUE=DATE:20210625
DTEND;VALUE=DATE:20210626
DTSTAMP:20260422T094921
CREATED:20210319T174227Z
LAST-MODIFIED:20210319T174227Z
UID:10000425-1624579200-1624665599@ctpga.com
SUMMARY:Drive\, Chip and Putt
DESCRIPTION:
URL:https://ctpga.com/event/drive-chip-and-putt-2/
LOCATION:Tashua Knolls Golf Course\, 40 Tashua Knolls Ln\, Trumbull\, CT\, 06611\, United States
GEO:41.2888296;-73.2495027
X-APPLE-STRUCTURED-LOCATION;VALUE=URI;X-ADDRESS=Tashua Knolls Golf Course 40 Tashua Knolls Ln Trumbull CT 06611 United States;X-APPLE-RADIUS=500;X-TITLE=40 Tashua Knolls Ln:geo:-73.2495027,41.2888296
END:VEVENT
END:VCALENDAR