BEGIN:VCALENDAR
VERSION:2.0
PRODID:-//Connecticut - ECPv6.15.20//NONSGML v1.0//EN
CALSCALE:GREGORIAN
METHOD:PUBLISH
X-WR-CALNAME:Connecticut
X-ORIGINAL-URL:https://ctpga.com
X-WR-CALDESC:Events for Connecticut
REFRESH-INTERVAL;VALUE=DURATION:PT1H
X-Robots-Tag:noindex
X-PUBLISHED-TTL:PT1H
BEGIN:VTIMEZONE
TZID:UTC
BEGIN:STANDARD
TZOFFSETFROM:+0000
TZOFFSETTO:+0000
TZNAME:UTC
DTSTART:20180101T000000
END:STANDARD
END:VTIMEZONE
BEGIN:VEVENT
DTSTART;TZID=UTC:20200324T100000
DTEND;TZID=UTC:20200324T120000
DTSTAMP:20260426T042049
CREATED:20191126T192831Z
LAST-MODIFIED:20200317T132330Z
UID:10000345-1585044000-1585051200@ctpga.com
SUMMARY:Rules of Golf Seminar - POSTPONED
DESCRIPTION:Section Tournament Director Dennis Dungee and Official in Charge John Korolyshun get you ready for the upcoming season. In year two of the updated rule of golf it is important to continue to be your club’s rules expert! \nEmail Dennis Dungee at ddungee@pgahq.com to RSVP.
URL:https://ctpga.com/event/tbd-winter-workshop-4/
LOCATION:Congregational Church of the South Glastonbury\, 949 Main St\, South Glastonbury\, CT\, 06073\, United States
CATEGORIES:Educational Events,Professional Development
GEO:41.66789;-72.6028857
X-APPLE-STRUCTURED-LOCATION;VALUE=URI;X-ADDRESS=Congregational Church of the South Glastonbury 949 Main St South Glastonbury CT 06073 United States;X-APPLE-RADIUS=500;X-TITLE=949 Main St:geo:-72.6028857,41.66789
END:VEVENT
BEGIN:VEVENT
DTSTART;TZID=UTC:20200225T100000
DTEND;TZID=UTC:20200225T120000
DTSTAMP:20260426T042049
CREATED:20191126T192645Z
LAST-MODIFIED:20200206T134836Z
UID:10000344-1582624800-1582632000@ctpga.com
SUMMARY:MW Financial: Preparing for 2020
DESCRIPTION:Chris Martinez\, MW Financial\, will speaking about financial topics to include preparing for 2020 taxes\, retirement plans\, and more. \nEmail Dennis Dungee at ddungee@pgahq.com to RSVP
URL:https://ctpga.com/event/tbd-winter-workshop-2/
LOCATION:Congregational Church of the South Glastonbury\, 949 Main St\, South Glastonbury\, CT\, 06073\, United States
CATEGORIES:Educational Events,Professional Development
GEO:41.66789;-72.6028857
X-APPLE-STRUCTURED-LOCATION;VALUE=URI;X-ADDRESS=Congregational Church of the South Glastonbury 949 Main St South Glastonbury CT 06073 United States;X-APPLE-RADIUS=500;X-TITLE=949 Main St:geo:-72.6028857,41.66789
END:VEVENT
BEGIN:VEVENT
DTSTART;TZID=UTC:20200211T090000
DTEND;TZID=UTC:20200211T140000
DTSTAMP:20260426T042049
CREATED:20191126T192409Z
LAST-MODIFIED:20191212T183936Z
UID:10000342-1581411600-1581429600@ctpga.com
SUMMARY:World Golf Handicap System Workshop
DESCRIPTION:Bill Bigler from the CSGA will be educating attendees on the changes that will affect courses/clubs regarding the World Handicap System which goes into effect on January 1\, 2020.  A certification will be needed  in order for the system to be in place at each facility. \nEmail Dennis Dungee at ddungee@pgahq.com to RSVP
URL:https://ctpga.com/event/world-golf-handicap-system-workshop/
LOCATION:Congregational Church of the South Glastonbury\, 949 Main St\, South Glastonbury\, CT\, 06073\, United States
CATEGORIES:Educational Events,Professional Development
GEO:41.66789;-72.6028857
X-APPLE-STRUCTURED-LOCATION;VALUE=URI;X-ADDRESS=Congregational Church of the South Glastonbury 949 Main St South Glastonbury CT 06073 United States;X-APPLE-RADIUS=500;X-TITLE=949 Main St:geo:-72.6028857,41.66789
END:VEVENT
BEGIN:VEVENT
DTSTART;TZID=UTC:20200128T100000
DTEND;TZID=UTC:20200128T120000
DTSTAMP:20260426T042049
CREATED:20191203T145858Z
LAST-MODIFIED:20191218T152046Z
UID:10000348-1580205600-1580212800@ctpga.com
SUMMARY:Workshop #2: New Wage & Hour Laws
DESCRIPTION:Attorney Meredith Diette from Bercham Moses will be presenting on the new wage & hour laws that will go into effect in 2020. This will effect your business and is very important information to understand going forward. \nContact Dennis Dungee at ddungee@pgahq.com to RSVP
URL:https://ctpga.com/event/winter-workshop-series/
CATEGORIES:Educational Events,Professional Development
END:VEVENT
BEGIN:VEVENT
DTSTART;TZID=UTC:20191210T100000
DTEND;TZID=UTC:20191210T120000
DTSTAMP:20260426T042049
CREATED:20191126T192005Z
LAST-MODIFIED:20191126T192005Z
UID:10000341-1575972000-1575979200@ctpga.com
SUMMARY:PGA Jr. League Workshop w/ Brian Bain
DESCRIPTION:Join us on Tuesday\, December 10 from 10:00 AM until 12:00 PM to learn how to maximize your PGA Jr. League program at your facility. PGA of America Regional League Manager Brian Bain is extremely knowledgeable on all things PGA Jr. League and will be able to answer all of your questions. \nAll PGA members will earn MSR credits. \nTo RSVP please email Tim Paragone at the Section office at tparagone@pgahq.com
URL:https://ctpga.com/event/pga-jr-league-workshop-w-brian-bain/
LOCATION:Congregational Church of the South Glastonbury\, 949 Main St\, South Glastonbury\, CT\, 06073\, United States
CATEGORIES:Professional Development
GEO:41.66789;-72.6028857
X-APPLE-STRUCTURED-LOCATION;VALUE=URI;X-ADDRESS=Congregational Church of the South Glastonbury 949 Main St South Glastonbury CT 06073 United States;X-APPLE-RADIUS=500;X-TITLE=949 Main St:geo:-72.6028857,41.66789
END:VEVENT
BEGIN:VEVENT
DTSTART;TZID=UTC:20190416T073000
DTEND;TZID=UTC:20190416T120000
DTSTAMP:20260426T042049
CREATED:20190222T212817Z
LAST-MODIFIED:20190311T193013Z
UID:10000334-1555399800-1555416000@ctpga.com
SUMMARY:Spring Membership Meeting
DESCRIPTION:The Spring Membership Meeting will be held on Tuesday\, April 16\, 2019 at Lake of Isles in North Stonington\, Conn. from 7:30am to 12:00pm. Registration is now open. Click here to register.
URL:https://ctpga.com/event/spring-membership-meeting/
LOCATION:Lake of Isles\, 1227\, 1 Clubhouse Dr\, North Stonington\, CT\, 06359\, United States
CATEGORIES:Professional Development
END:VEVENT
END:VCALENDAR